BEGIN:VCALENDAR
VERSION:2.0
PRODID:-//ChamberMaster//Event Calendar 2.0//EN
METHOD:PUBLISH
X-PUBLISHED-TTL:P3D
REFRESH-INTERVAL:P3D
CALSCALE:GREGORIAN
BEGIN:VEVENT
DTSTART:20170712T163000Z
DTEND:20170712T180000Z
X-MICROSOFT-CDO-ALLDAYEVENT:FALSE
SUMMARY:Lunch-N-Learn: 5 Things that keep your Employment Lawyer up at Night
DESCRIPTION:5 Things that keep your employment Lawyer up at night\, presented by Cross Jenks Mercer & Maffei.
X-ALT-DESC;FMTTYPE=text/html:<p>5 Things that keep your employment Lawyer up at night\, presented by Cross Jenks Mercer &amp\; Maffei.</p>\n
LOCATION:Schwarz Insurance 1420 North Ridge Drive Prairie du Sac\, WI 53578
UID:e.1184.9830
SEQUENCE:3
DTSTAMP:20260425T033015Z
URL:http://members.saukprairie.com/events/details/lunch-n-learn-5-things-that-keep-your-employment-lawyer-up-at-night-9830
END:VEVENT

END:VCALENDAR
