BEGIN:VCALENDAR
VERSION:2.0
PRODID:-//ChamberMaster//Event Calendar 2.0//EN
METHOD:PUBLISH
X-PUBLISHED-TTL:P3D
REFRESH-INTERVAL:P3D
CALSCALE:GREGORIAN
BEGIN:VEVENT
DTSTART:20180110T173000Z
DTEND:20180110T190000Z
X-MICROSOFT-CDO-ALLDAYEVENT:FALSE
SUMMARY:Lunch-N-Learn: Active Shooter Training & Robbery Tips that your Employees need to know!
DESCRIPTION:Active Shooter Training and Robbery Tips that your employees need to know presented by the Sauk City Police Dept.
X-ALT-DESC;FMTTYPE=text/html:<span style="font-family: calibri\,sans-serif\;"><span style="font-size: 11pt\;">Active Shooter Training and Robbery Tips that your employees need to know presented by the Sauk City Police Dept.</span></span>
LOCATION:Compeer Financial 1430 North Ridge Drive Prairie du Sac\, WI 53578
UID:e.1184.13990
SEQUENCE:3
DTSTAMP:20260424T191823Z
URL:http://members.saukprairie.com/events/details/lunch-n-learn-active-shooter-training-robbery-tips-that-your-employees-need-to-know-13990
END:VEVENT

END:VCALENDAR
