BEGIN:VCALENDAR
VERSION:2.0
PRODID:-//ChamberMaster//Event Calendar 2.0//EN
METHOD:PUBLISH
X-PUBLISHED-TTL:P3D
REFRESH-INTERVAL:P3D
CALSCALE:GREGORIAN
BEGIN:VEVENT
DTSTART:20181010T163000Z
DTEND:20181010T180000Z
X-MICROSOFT-CDO-ALLDAYEVENT:FALSE
SUMMARY:Lunch-N-Learn: Build Self Confidence in Employees
DESCRIPTION:Build self confidence in empolyees and watch your retention rates soar\, presented by Mary Ann Marx with True North Life Coaching.
X-ALT-DESC;FMTTYPE=text/html:<span style="font-family:calibri\,sans-serif\;"><span style="font-size:11.0pt\;">Build self confidence in empolyees and watch your retention rates soar\, presented by Mary Ann Marx with True North Life Coaching.</span></span>
LOCATION:Compeer Financial 1430 North Ridge Drive Prairie du Sac\, WI 53578
UID:e.1184.14015
SEQUENCE:3
DTSTAMP:20260424T033821Z
URL:http://members.saukprairie.com/events/details/lunch-n-learn-build-self-confidence-in-employees-14015
END:VEVENT

END:VCALENDAR
