BEGIN:VCALENDAR
VERSION:2.0
PRODID:-//ChamberMaster//Event Calendar 2.0//EN
METHOD:PUBLISH
X-PUBLISHED-TTL:P3D
REFRESH-INTERVAL:P3D
CALSCALE:GREGORIAN
BEGIN:VEVENT
DTSTART:20171012T163000Z
DTEND:20171012T180000Z
X-MICROSOFT-CDO-ALLDAYEVENT:FALSE
SUMMARY:Lunch-N-Learn: Coaching as a Management Style
DESCRIPTION:Coaching as a Management Style\, presented by Mary Ann Marx with Wisconsin Holistic Professionals.
X-ALT-DESC;FMTTYPE=text/html:<p>Coaching as a Management Style\, presented by Mary Ann Marx with Wisconsin Holistic Professionals.</p>\n
LOCATION:Schwarz Insurance 1420 North Ridge Drive Prairie du Sac\, WI 53578
UID:e.1184.9831
SEQUENCE:3
DTSTAMP:20260424T221841Z
URL:http://members.saukprairie.com/events/details/lunch-n-learn-coaching-as-a-management-style-9831
END:VEVENT

END:VCALENDAR
