BEGIN:VCALENDAR
VERSION:2.0
PRODID:-//ChamberMaster//Event Calendar 2.0//EN
METHOD:PUBLISH
X-PUBLISHED-TTL:P3D
REFRESH-INTERVAL:P3D
CALSCALE:GREGORIAN
BEGIN:VEVENT
DTSTART:20190213T173000Z
DTEND:20190213T190000Z
X-MICROSOFT-CDO-ALLDAYEVENT:FALSE
SUMMARY:Lunch-N-Learn: Digital Marketing Bootcamp
DESCRIPTION:Digital Marketing Bootcamp presented by J&J Solutions.\n\n\n\n  Google ate my website! \n\n  The hunt for good data\n\n  Social Media 2.0 \n\n  Emailing in a social world\n\n  To ad or not to ad
X-ALT-DESC;FMTTYPE=text/html:<span style="font-family: calibri\,sans-serif\;"><span style="font-size: 11pt\;">Digital Marketing Bootcamp presented by J&amp\;J Solutions.</span></span><br />\n<br />\n&bull\; Google ate my website!&nbsp\;<br />\n&bull\; The hunt for good data<br />\n&bull\; Social Media 2.0&nbsp\;<br />\n&bull\; Emailing in a social world<br />\n&bull\; To ad or not to ad
LOCATION:Schwarz Insurance 1420 North Ridge Drive Prairie du Sac\, WI 53578
UID:e.1184.21508
SEQUENCE:3
DTSTAMP:20260423T212954Z
URL:http://members.saukprairie.com/events/details/lunch-n-learn-digital-marketing-bootcamp-21508
END:VEVENT

END:VCALENDAR
