BEGIN:VCALENDAR
VERSION:2.0
PRODID:-//ChamberMaster//Event Calendar 2.0//EN
METHOD:PUBLISH
X-PUBLISHED-TTL:P3D
REFRESH-INTERVAL:P3D
CALSCALE:GREGORIAN
BEGIN:VEVENT
DTSTART:20160824T163000Z
DTEND:20160824T180000Z
X-MICROSOFT-CDO-ALLDAYEVENT:FALSE
SUMMARY:Lunch-N-Learn: Digital Signage for Your Business
DESCRIPTION:Learn about the benefits of using indoor digital signage to inform\, educate and entertain your customers. Explore emerging trends in Digital Signage including video walls\, interactive\, kiosk and transparent screens.
X-ALT-DESC;FMTTYPE=text/html:<span style="font-family:calibri\,sans-serif\;"><span style="font-size:11.0pt\;">Learn about the benefits of using indoor digital signage to inform\, educate and entertain your customers. Explore emerging trends in Digital Signage including video walls\, interactive\, kiosk and transparent screens.</span></span>
LOCATION:Sauk Prairie Riverway Welcome Center 109 Phillips Blvd. Sauk City\, WI 53583
UID:e.1184.8503
SEQUENCE:3
DTSTAMP:20260425T210141Z
URL:http://members.saukprairie.com/events/details/lunch-n-learn-digital-signage-for-your-business-08-24-2016-8503
END:VEVENT

END:VCALENDAR
