BEGIN:VCALENDAR
VERSION:2.0
PRODID:-//ChamberMaster//Event Calendar 2.0//EN
METHOD:PUBLISH
X-PUBLISHED-TTL:P3D
REFRESH-INTERVAL:P3D
CALSCALE:GREGORIAN
BEGIN:VEVENT
DTSTART:20160621T163000Z
DTEND:20160621T180000Z
X-MICROSOFT-CDO-ALLDAYEVENT:FALSE
SUMMARY:Lunch-N-Learn: Email Etiquette 101\, Presented by Navigate to Success
DESCRIPTION:Email Etiquette 101!
X-ALT-DESC;FMTTYPE=text/html:Email Etiquette 101!<br />\n&nbsp\;
LOCATION:Badgerland Financial 1430 North Ridge Drive\, PDS
UID:e.1184.4831
SEQUENCE:3
DTSTAMP:20260426T003606Z
URL:http://members.saukprairie.com/events/details/lunch-n-learn-email-etiquette-101-presented-by-navigate-to-success-06-21-2016-4831
END:VEVENT

END:VCALENDAR
