BEGIN:VCALENDAR
VERSION:2.0
PRODID:-//ChamberMaster//Event Calendar 2.0//EN
METHOD:PUBLISH
X-PUBLISHED-TTL:P3D
REFRESH-INTERVAL:P3D
CALSCALE:GREGORIAN
BEGIN:VEVENT
DTSTART:20171220T173000Z
DTEND:20171220T190000Z
X-MICROSOFT-CDO-ALLDAYEVENT:FALSE
SUMMARY:Lunch-N-Learn: How Volunteering can grow your Business - December 20
DESCRIPTION:Learn how volunteering can help grow your business.\n\n\n\nPresented by Peter van der Hagen\, Marietta Reuter and Jackie Bascom
X-ALT-DESC;FMTTYPE=text/html:Learn how volunteering can help grow your business.<br />\n<br />\nPresented by Peter van der Hagen\, Marietta Reuter and Jackie Bascom
LOCATION:Sauk Prairie Riverway Welcome Center 109 Phillips Blvd. Sauk City\, WI 53583
UID:e.1184.9774
SEQUENCE:3
DTSTAMP:20260424T193337Z
URL:http://members.saukprairie.com/events/details/lunch-n-learn-how-volunteering-can-grow-your-business-december-20-9774
END:VEVENT

END:VCALENDAR
