BEGIN:VCALENDAR
VERSION:2.0
PRODID:-//ChamberMaster//Event Calendar 2.0//EN
METHOD:PUBLISH
X-PUBLISHED-TTL:P3D
REFRESH-INTERVAL:P3D
CALSCALE:GREGORIAN
BEGIN:VEVENT
DTSTART:20190605T163000Z
DTEND:20190605T180000Z
X-MICROSOFT-CDO-ALLDAYEVENT:FALSE
SUMMARY:Lunch-N-Learn: HR Best Practices to Avoid a Bad Hire
DESCRIPTION:HR Best Practices to Avoid a Bad Hire\n\n	Identify potential red flags on resumes\n	Interviewing best practices\n	Where to find potential candidates
X-ALT-DESC;FMTTYPE=text/html:<span style="font-family: calibri\,sans-serif\;"><span style="font-size: 11pt\;">HR Best Practices to Avoid a Bad Hire</span></span>\n<ul>\n	<li>Identify potential red flags on resumes</li>\n	<li>Interviewing best practices</li>\n	<li>Where to find potential candidates</li>\n</ul>\n<br />\n<br />\n&nbsp\;
LOCATION:Schwarz Insurance 1420 North Ridge Drive Prairie du Sac\, WI 53578
UID:e.1184.22334
SEQUENCE:3
DTSTAMP:20260423T153255Z
URL:http://members.saukprairie.com/events/details/lunch-n-learn-hr-best-practices-to-avoid-a-bad-hire-22334
END:VEVENT

END:VCALENDAR
