BEGIN:VCALENDAR
VERSION:2.0
PRODID:-//ChamberMaster//Event Calendar 2.0//EN
METHOD:PUBLISH
X-PUBLISHED-TTL:P3D
REFRESH-INTERVAL:P3D
CALSCALE:GREGORIAN
BEGIN:VEVENT
DTSTART:20170315T163000Z
DTEND:20170315T180000Z
X-MICROSOFT-CDO-ALLDAYEVENT:FALSE
SUMMARY:Lunch-N-Learn: Know the signs of emotional pain or suicidal thoughts - March 15
DESCRIPTION:Know the signs of emotional pain or suicidal thoughts...to have the knowledge to help save a life of your employee\, family member or friend.\n\n\n\nPresented by HOPE Sauk Prairie and QPR Trainer
X-ALT-DESC;FMTTYPE=text/html:Know the signs of emotional pain or suicidal thoughts...to have the knowledge to help save a life of your employee\, family member or friend.<br />\n<br />\nPresented by HOPE Sauk Prairie and QPR Trainer
LOCATION:Sauk Prairie School District Administrative Office 440 13th St\, Prairie Du Sac\, WI 53578
UID:e.1184.9753
SEQUENCE:3
DTSTAMP:20260425T110504Z
URL:http://members.saukprairie.com/events/details/lunch-n-learn-know-the-signs-of-emotional-pain-or-suicidal-thoughts-march-15-9753
END:VEVENT

END:VCALENDAR
