BEGIN:VCALENDAR
VERSION:2.0
PRODID:-//ChamberMaster//Event Calendar 2.0//EN
METHOD:PUBLISH
X-PUBLISHED-TTL:P3D
REFRESH-INTERVAL:P3D
CALSCALE:GREGORIAN
BEGIN:VEVENT
DTSTART:20171101T163000Z
DTEND:20171101T180000Z
X-MICROSOFT-CDO-ALLDAYEVENT:FALSE
SUMMARY:Lunch-N-Learn: Managed Services or Hardware as a Service
DESCRIPTION:Learn more about hacking\, phishing and ransom attacks in business how to identify them and protect your business from them.  Also we will discuss new technology that allows you to pinpoint who on your staff is "the weak link" and how to train and monitor them to protect your business.
X-ALT-DESC;FMTTYPE=text/html:Learn more about hacking\, phishing and ransom attacks in business&hellip\;how to identify them and protect your business from them.&nbsp\; Also we will discuss new technology that allows you to pinpoint who on your staff is &ldquo\;the weak link&rdquo\; and how to train and monitor them to protect your business. &nbsp\;<br />\n&nbsp\;
LOCATION:Sauk Prairie Riverway Welcome Center 109 Phillips Blvd. Sauk City\, Wisconsin 53583
UID:e.1184.11854
SEQUENCE:3
DTSTAMP:20260424T205300Z
URL:http://members.saukprairie.com/events/details/lunch-n-learn-managed-services-or-hardware-as-a-service-11854
END:VEVENT

END:VCALENDAR
