BEGIN:VCALENDAR
VERSION:2.0
PRODID:-//ChamberMaster//Event Calendar 2.0//EN
METHOD:PUBLISH
X-PUBLISHED-TTL:P3D
REFRESH-INTERVAL:P3D
CALSCALE:GREGORIAN
BEGIN:VEVENT
DTSTART:20160913T163000Z
DTEND:20160913T180000Z
X-MICROSOFT-CDO-ALLDAYEVENT:FALSE
SUMMARY:Lunch-N-Learn: Overcoming Overload! Presented by Ann Kerian Consulting
DESCRIPTION:
X-ALT-DESC;FMTTYPE=text/html:
LOCATION:Schwarz Insurance 1420 North Ridge Drive\, PDS
UID:e.1184.4834
SEQUENCE:3
DTSTAMP:20260425T211650Z
URL:http://members.saukprairie.com/events/details/lunch-n-learn-overcoming-overload-presented-by-ann-kerian-consulting-09-13-2016-4834
END:VEVENT

END:VCALENDAR
