BEGIN:VCALENDAR
VERSION:2.0
PRODID:-//ChamberMaster//Event Calendar 2.0//EN
METHOD:PUBLISH
X-PUBLISHED-TTL:P3D
REFRESH-INTERVAL:P3D
CALSCALE:GREGORIAN
BEGIN:VEVENT
DTSTART:20161013T163000Z
DTEND:20161013T180000Z
X-MICROSOFT-CDO-ALLDAYEVENT:FALSE
SUMMARY:Lunch-N-Learn: Overtime Law Changes - October 13\, 2016
DESCRIPTION:2 Biggest Obstacles when balancing our lives\n\n-Finances\n\n-Health & Wellness\n\n\n\nGet tips on planning and follow through!
X-ALT-DESC;FMTTYPE=text/html:2 Biggest Obstacles when balancing our lives<br />\n-Finances<br />\n-Health &amp\; Wellness<br />\n<br />\nGet tips on planning and follow through!<br />\n&nbsp\;
LOCATION:Sauk Prairie Riverway Welcome Center 109 Phillips Blvd. Sauk City\, WI 53583
UID:e.1184.9382
SEQUENCE:3
DTSTAMP:20260425T173741Z
URL:http://members.saukprairie.com/events/details/lunch-n-learn-overtime-law-changes-october-13-2016-9382
END:VEVENT

END:VCALENDAR
