BEGIN:VCALENDAR
VERSION:2.0
PRODID:-//ChamberMaster//Event Calendar 2.0//EN
METHOD:PUBLISH
X-PUBLISHED-TTL:P3D
REFRESH-INTERVAL:P3D
CALSCALE:GREGORIAN
BEGIN:VEVENT
DTSTART:20160419T163000Z
DTEND:20160419T180000Z
X-MICROSOFT-CDO-ALLDAYEVENT:FALSE
SUMMARY:Lunch-N-Learn: Positive Attitude: That's NOT Fair! Presented by: The Positive Edge
DESCRIPTION:Positive Attitude:  Life is not fair! - This may feel especially true as small business owners. We are constantly dealing with uncertainty\, trying to adjust to changing customer needs\, business landscapes\, technology\, and the economy. We need to deal with customer and employee issues to keep things running smoothly.  This program will talk about why these unknowns and pressures can leave us stressed and overwhelmed and provide strategies we can use to help us enjoy the journey.\n\n \n\nBio: Tina Hallis\, Ph.D.is the founder and owner of The Positive Edge\, a company dedicated to increasing people's positivity to improve the quality of people's work lives and the quality of company cultures.  She is certified in Positive Psychology through the WholeBeing Institute\, an Authorized Partner for Everything DiSC \, and a Professional Member of the National Speakers Association.   She worked for 20+ years in Biotechnology at small start-up companies and large corporations and now provides workshops and programs that shift they way people think about change\, their work\, their colleagues\, and customers so they can fulfill their true potential and enjoy sustainable success.
X-ALT-DESC;FMTTYPE=text/html:<p><span style="font-size: 10pt\;"><span style="font-family: times new roman\;">Positive Attitude: &nbsp\;Life is not fair! -&nbsp\;This may feel especially true as small business owners. We are constantly dealing with uncertainty\,&nbsp\;trying to adjust to changing customer needs\, business landscapes\, technology\, and the economy. We need to deal with customer and employee issues to keep things running smoothly.&nbsp\;&nbsp\;This program will talk about why these unknowns and pressures can leave us stressed and overwhelmed and provide strategies we can use to help us enjoy the journey.</span></span><br />\n&nbsp\;<br />\n<span style="font-size: 10pt\;"><span style="font-family: times new roman\;">Bio:&nbsp\;Tina Hallis\, </span><a href="http://t.sidekickopen49.com/e1t/c/5/f18dQhb0S7lC8dDMPbW2n0x6l2B9nMJN7t5XX4QsBk4W7fZFKF2Bpn0zW7fK3rs56dyyGf1LLqV602?si=4804535752589312&amp\;pi=9B518980-8337-41F3-B362-4CCF31BCA244&amp\;t=http%3A%2F%2FPh%2ED%2Eis"><span style="font-family: times new roman\;"><span style="color: rgb(0\, 0\, 255)\;">Ph.D.is</span></span></a><span style="font-family: times new roman\;"> the founder and owner of The Positive Edge\, a company dedicated to increasing people&rsquo\;s positivity to improve the quality of people&rsquo\;s work lives and the quality of company cultures. &nbsp\;She is certified in Positive Psychology through the WholeBeing Institute\, an Authorized Partner for Everything DiSC&reg\;\, and a Professional Member of the National Speakers Association.&nbsp\; &nbsp\;She worked for 20+ years in Biotechnology at small start-up companies and large corporations and now provides workshops and programs that&nbsp\;shift they way people think about change\, their work\, their colleagues\, and customers so they can fulfill their true potential and enjoy sustainable success.&nbsp\;</span></span><br />\n&nbsp\;<br />\n<br />\n<br />\n<br />\n&nbsp\;</p>\n
LOCATION:Schwarz Insurance 1420 North Ridge Drive Prairie du Sac\, WI 53578
UID:e.1184.4826
SEQUENCE:3
DTSTAMP:20260426T033614Z
URL:http://members.saukprairie.com/events/details/lunch-n-learn-positive-attitude-that-s-not-fair-presented-by-the-positive-edge-04-19-2016-4826
END:VEVENT

END:VCALENDAR
