BEGIN:VCALENDAR
VERSION:2.0
PRODID:-//ChamberMaster//Event Calendar 2.0//EN
METHOD:PUBLISH
X-PUBLISHED-TTL:P3D
REFRESH-INTERVAL:P3D
CALSCALE:GREGORIAN
BEGIN:VEVENT
DTSTART:20200130T173000Z
DTEND:20200130T190000Z
X-MICROSOFT-CDO-ALLDAYEVENT:FALSE
SUMMARY:Lunch-N-Learn: Preparing Your Estate Plan & Simplifying Things For Your Family
DESCRIPTION:Preparing Your Estate Plan & Simplifying Things For Your Family Presented by Pat Taggart w/LaRowe Gerlach Taggart and Peter van der Hagen w/Edward Jones
X-ALT-DESC;FMTTYPE=text/html:<strong>Preparing Your Estate Plan &amp\; Simplifying Things For Your Family Presented by Pat Taggart&nbsp\;w/LaRowe Gerlach Taggart and Peter van der Hagen&nbsp\;w/Edward Jones&nbsp\; &nbsp\; &nbsp\; &nbsp\; &nbsp\; &nbsp\; &nbsp\; &nbsp\; &nbsp\; &nbsp\; &nbsp\; &nbsp\; &nbsp\; &nbsp\; &nbsp\; &nbsp\; &nbsp\; &nbsp\; &nbsp\; &nbsp\;</strong>
LOCATION:Schwarz Insurance 1420 North Ridge Drive Prairie du Sac\, WI 53578
UID:e.1184.23699
SEQUENCE:3
DTSTAMP:20260423T053900Z
URL:http://members.saukprairie.com/events/details/lunch-n-learn-preparing-your-estate-plan-simplifying-things-for-your-family-23699
END:VEVENT

END:VCALENDAR
