BEGIN:VCALENDAR
VERSION:2.0
PRODID:-//ChamberMaster//Event Calendar 2.0//EN
METHOD:PUBLISH
X-PUBLISHED-TTL:P3D
REFRESH-INTERVAL:P3D
CALSCALE:GREGORIAN
BEGIN:VEVENT
DTSTART:20161109T173000Z
DTEND:20161109T190000Z
X-MICROSOFT-CDO-ALLDAYEVENT:FALSE
SUMMARY:Lunch-N-Learn: The Top Five Effective Supervisory Practice\, Presented by The Growth Coach
DESCRIPTION:
X-ALT-DESC;FMTTYPE=text/html:
LOCATION:Badgerland Financial 1430 North Ridge Drive\, PDS
UID:e.1184.4835
SEQUENCE:3
DTSTAMP:20260425T161003Z
URL:http://members.saukprairie.com/events/details/lunch-n-learn-the-top-five-effective-supervisory-practice-presented-by-the-growth-coach-11-09-2016-4835
END:VEVENT

END:VCALENDAR
