BEGIN:VCALENDAR
VERSION:2.0
PRODID:-//ChamberMaster//Event Calendar 2.0//EN
METHOD:PUBLISH
X-PUBLISHED-TTL:P3D
REFRESH-INTERVAL:P3D
CALSCALE:GREGORIAN
BEGIN:VEVENT
DTSTART:20180227T173000Z
DTEND:20180227T190000Z
X-MICROSOFT-CDO-ALLDAYEVENT:FALSE
SUMMARY:Lunch-N-Learn: Time Management
DESCRIPTION:Time Management - How much is your time really worth? Presented by Stuart B. Fields Management Development Consultancy
X-ALT-DESC;FMTTYPE=text/html:<span style="font-family:calibri\,sans-serif\;"><span style="font-size:11.0pt\;">Time Management - How much is your time really worth? Presented by Stuart B. Fields Management Development Consultancy</span></span>
LOCATION:Schwarz Insurance 1420 North Ridge Drive Prairie du Sac\, WI 53578
UID:e.1184.13994
SEQUENCE:3
DTSTAMP:20260424T161523Z
URL:http://members.saukprairie.com/events/details/lunch-n-learn-time-management-13994
END:VEVENT

END:VCALENDAR
