BEGIN:VCALENDAR
VERSION:2.0
PRODID:-//ChamberMaster//Event Calendar 2.0//EN
METHOD:PUBLISH
X-PUBLISHED-TTL:P3D
REFRESH-INTERVAL:P3D
CALSCALE:GREGORIAN
BEGIN:VEVENT
DTSTART:20160503T160000Z
DTEND:20160503T180000Z
X-MICROSOFT-CDO-ALLDAYEVENT:FALSE
SUMMARY:Lunch-N-Learn: Understanding the workplace & how to deal with GEN X & Baby Boomer
DESCRIPTION:A must attend Lunch-n-Learn: with the Sauk Prairie Young Connection Understanding the workplace & how to deal with GEN X & Baby Boomers presented by Steve Benzschawel with Business World.
X-ALT-DESC;FMTTYPE=text/html:<p>A must&nbsp\;attend Lunch-n-Learn: with the Sauk Prairie Young Connection Understanding the workplace &amp\; how to deal with GEN X &amp\; Baby Boomers&nbsp\;presented by Steve Benzschawel with Business World.<br />\n&nbsp\;</p>\n
LOCATION:Badgerland Financial 1430 North Ridge Drive Prairie du Sac\, WI 53578
UID:e.1184.8423
SEQUENCE:3
DTSTAMP:20260426T020452Z
URL:http://members.saukprairie.com/events/details/lunch-n-learn-understanding-the-workplace-how-to-deal-with-gen-x-baby-boomer-05-03-2016-8423
END:VEVENT

END:VCALENDAR
