BEGIN:VCALENDAR
VERSION:2.0
PRODID:-//ChamberMaster//Event Calendar 2.0//EN
METHOD:PUBLISH
X-PUBLISHED-TTL:P3D
REFRESH-INTERVAL:P3D
CALSCALE:GREGORIAN
BEGIN:VEVENT
DTSTART:20160427T163000Z
DTEND:20160427T183000Z
X-MICROSOFT-CDO-ALLDAYEVENT:FALSE
SUMMARY:Lunch Time Connections & BBQ
DESCRIPTION:Anniversaries aren't all we are \n\ncelebrating\, we are launching a new lunchtime networking \n\nopportunity. A BBQ Lunch is \n\nincluded\, along with all the fixins! \n\n\n\nMeet and learn about the \n\nfollowing businesses:\n\n6:8\, Paul's Chocolates\, First Weber Group\,Orion Land Surveryors\, The Growth Coach\, Drop Frame Productions\, Pridham Electronics
X-ALT-DESC;FMTTYPE=text/html:Anniversaries aren&rsquo\;t all we are&nbsp\;<br />\ncelebrating\, we are launching a new lunchtime networking&nbsp\;<br />\nopportunity. A BBQ Lunch is&nbsp\;<br />\nincluded\, along with all the fixins!&nbsp\;<br />\n<br />\nMeet and learn about the&nbsp\;<br />\nfollowing businesses:<br />\n6:8\, Paul&#39\;s Chocolates\, First Weber Group\,Orion Land Surveryors\, The Growth Coach\, Drop Frame Productions\, Pridham Electronics
LOCATION:Sauk Prairie Riverway Welcome Center 109 Phillips Blvd. Sauk City\, Wisconsin 53583
UID:e.1184.4837
SEQUENCE:3
DTSTAMP:20260426T033338Z
URL:http://members.saukprairie.com/events/details/lunch-time-connections-bbq-04-27-2016-4837
END:VEVENT

END:VCALENDAR
