BEGIN:VCALENDAR
VERSION:2.0
PRODID:-//ChamberMaster//Event Calendar 2.0//EN
METHOD:PUBLISH
X-PUBLISHED-TTL:P3D
REFRESH-INTERVAL:P3D
CALSCALE:GREGORIAN
BEGIN:VEVENT
DTSTART:20160609T210000Z
DTEND:20160609T233000Z
X-MICROSOFT-CDO-ALLDAYEVENT:FALSE
SUMMARY:LWR - Operations Committee Meeting
DESCRIPTION:Rhinelander Cabin at DNR Black Hawk Unit\, Mazomanie\, WI\n\n1. Call to order 2. Acknowledgment of public meeting notice 3. Business meeting/consideration of permit requests 4. Other business 5. Adjournment\n\n\n\nClick here for the agenda
X-ALT-DESC;FMTTYPE=text/html:<span style="color: rgb(0\, 0\, 0)\; font-family: Verdana\, Arial\; font-size: small\; line-height: normal\; background-color: rgb(243\, 243\, 243)\;">Rhinelander Cabin at DNR Black Hawk Unit\, Mazomanie\, WI</span><br style="color: rgb(0\, 0\, 0)\; font-family: Verdana\, Arial\, Helvetica\; font-size: small\; line-height: normal\; background-color: rgb(243\, 243\, 243)\;" />\n<span style="color: rgb(0\, 0\, 0)\; font-family: Verdana\, Arial\; font-size: small\; line-height: normal\; background-color: rgb(243\, 243\, 243)\;">1. Call to order 2. Acknowledgment of public meeting notice 3. Business meeting/consideration of permit requests 4. Other business 5. Adjournment<br />\n<br />\n<a href="http://lwr.state.wi.us/meetings_doc.asp?thismeeting=3055&amp\;locid=50">Click here for the agenda</a></span>
LOCATION:
UID:e.1184.8589
SEQUENCE:3
DTSTAMP:20260426T003926Z
URL:http://members.saukprairie.com/events/details/lwr-operations-committee-meeting-06-09-2016-8589
END:VEVENT

END:VCALENDAR
