BEGIN:VCALENDAR
VERSION:2.0
PRODID:-//ChamberMaster//Event Calendar 2.0//EN
METHOD:PUBLISH
X-PUBLISHED-TTL:P3D
REFRESH-INTERVAL:P3D
CALSCALE:GREGORIAN
BEGIN:VEVENT
DTSTART:20161023T210000Z
DTEND:20161023T230000Z
X-MICROSOFT-CDO-ALLDAYEVENT:FALSE
SUMMARY:Mackenzie Moore at Woodshed Ale House
DESCRIPTION:Join the Woodshed Ale House for some tunes with this up and coming Sauk Prairie Star!
X-ALT-DESC;FMTTYPE=text/html:Join the Woodshed Ale House for some tunes with this up and coming Sauk Prairie Star!
LOCATION:Woodshed Ale House 101 Jackson Street Sauk City\, WI 53583
UID:e.1184.9410
SEQUENCE:3
DTSTAMP:20260425T174319Z
URL:http://members.saukprairie.com/events/details/mackenzie-moore-at-woodshed-ale-house-9410
END:VEVENT

END:VCALENDAR
