BEGIN:VCALENDAR
VERSION:2.0
PRODID:-//ChamberMaster//Event Calendar 2.0//EN
METHOD:PUBLISH
X-PUBLISHED-TTL:P3D
REFRESH-INTERVAL:P3D
CALSCALE:GREGORIAN
BEGIN:VEVENT
DTSTART:20220903T200000Z
DTEND:20220903T220000Z
X-MICROSOFT-CDO-ALLDAYEVENT:FALSE
SUMMARY:Mad City Jug Band at Schoepp's Cottonwood Resort
DESCRIPTION:Join us from 3-5pm at Schoepp's Cottonwood Resort for live music from Mad City Jug Band!
X-ALT-DESC;FMTTYPE=text/html:Join us from 3-5pm at Schoepp&#39\;s Cottonwood Resort for live music from Mad City Jug Band!
LOCATION:Schoepp's Cottonwood Resort: N586 Schoepp Rd\, Sauk City
UID:e.1184.27965
SEQUENCE:3
DTSTAMP:20260421T061926Z
URL:http://members.saukprairie.com/events/details/mad-city-jug-band-at-schoepp-s-cottonwood-resort-27965
END:VEVENT

END:VCALENDAR
