BEGIN:VCALENDAR
VERSION:2.0
PRODID:-//ChamberMaster//Event Calendar 2.0//EN
METHOD:PUBLISH
X-PUBLISHED-TTL:P3D
REFRESH-INTERVAL:P3D
CALSCALE:GREGORIAN
BEGIN:VEVENT
DTSTART:20170302T210000Z
DTEND:20170303T000000Z
X-MICROSOFT-CDO-ALLDAYEVENT:FALSE
SUMMARY:Madison College - Instant Application Night - Reedsburg Campus
DESCRIPTION:Instant Application Night\n\nNeed help with your application? Receive assistance from recruiters and enrollment staff at Madison College's Instant Application Night. Drop in at your convenience and stay as long as you want. Instant Application Night is held at multiple MATC campuses\, and the application fee is waived for all attendees.\n\n\n\nWhile you're here:\n\n\n	Receive help filling out your application.\n	File your application for free.\n	Learn about student services including academic advising\, career counseling\, veteran services\, and disability resources.\n\n	Please contact us (link sends e-mail) with questions.
X-ALT-DESC;FMTTYPE=text/html:<span style="font-size:14pt"><span style="font-family:muli"><span style="color:rgb(31\, 78\, 121)">Instant Application Night</span></span></span><br />\n<span style="font-size:10.5pt"><span style="font-family:inherit\,serif"><span style="color:black">Need help with your application? Receive assistance from recruiters and enrollment staff at Madison College&#39\;s Instant Application Night. Drop in at your convenience and stay as long as you want. Instant Application Night is held at multiple MATC campuses\, and the application fee is waived for all attendees.</span></span></span><br />\n<br />\n<span style="font-size:10.5pt"><span style="font-family:inherit\,serif"><span style="color:black">While you&#39\;re here:</span></span></span>\n\n<ul>\n	<li><span style="font-size:10.5pt"><span style="font-family:inherit\,serif"><span style="color:black">Receive help filling out your application.</span></span></span></li>\n	<li><span style="font-size:10.5pt"><span style="font-family:inherit\,serif"><span style="color:black">File your application for free.</span></span></span></li>\n	<li><span style="font-size:10.5pt"><span style="font-family:inherit\,serif"><span style="color:black">Learn about student services including <a href="https://madisoncollege.edu/advising"><span style="color:rgb(0\, 125\, 177)">academic&nbsp\;advising</span></a></span>\, <a href="https://madisoncollege.edu/counseling"><span style="color:rgb(0\, 125\, 177)">career counseling</span></a></span>\, <a href="https://madisoncollege.edu/veteran-services"><span style="color:rgb(0\, 125\, 177)">veteran services</span></a></span>\, and&nbsp\;<a href="https://madisoncollege.edu/disability-resource-services"><span style="color:rgb(0\, 125\, 177)">disability resources</span></a>.<br />\n	<span style="font-size:10.5pt"><span style="font-family:inherit\,serif"><span style="color:black">Please&nbsp\;<a href="mailto:experience@madisoncollege.edu?subject=Instant%20Application%20Night%20question"><span style="color:rgb(0\, 125\, 177)">contact us</span></a></span><a href="mailto:experience@madisoncollege.edu?subject=Instant%20Application%20Night%20question"><span style="color:rgb(0\, 125\, 177)"> (link sends e-mail)</span></a>&nbsp\;with questions.</span></span></li>\n</ul>\n
LOCATION:Madison College\, Reedsburg Campus 300 Alexander Ave. Reedsburg\, WI 53959 General Information: (608) 524-7800
UID:e.1184.9790
SEQUENCE:3
DTSTAMP:20260425T110335Z
URL:http://members.saukprairie.com/events/details/madison-college-instant-application-night-reedsburg-campus-9790
END:VEVENT

END:VCALENDAR
