BEGIN:VCALENDAR
VERSION:2.0
PRODID:-//ChamberMaster//Event Calendar 2.0//EN
METHOD:PUBLISH
X-PUBLISHED-TTL:P3D
REFRESH-INTERVAL:P3D
CALSCALE:GREGORIAN
BEGIN:VEVENT
DTSTART;VALUE=DATE:20160513
DTEND;VALUE=DATE:20160515
TRANSP:TRANSPARENT
X-MICROSOFT-CDO-ALLDAYEVENT:TRUE
SUMMARY:Madison Magazine Presents: Brews\, Bikes & Bar-b-que
DESCRIPTION:SCHEDULE OF EVENTS\n\nThe Madison Magazine BBQ Festival will include: \n\n\n	Two days of live music\n	BBQ demonstrations\n	Delicious food and drink for sale\n	A Merchandise Market\n	A Children's Play Zone\n	A People's Choice Vote\n	An Amateur BBQ Competition\n\n\nAnd much\, much more!
X-ALT-DESC;FMTTYPE=text/html:<div class="sqs-block-content" id="yui_3_17_2_1_1418413722575_249">\n<h2 class="text-align-center">&nbsp\;</h2>\n\n<h2 class="text-align-center" style="font-family: adelle\; font-size: 22px\; line-height: 1.2em\; letter-spacing: 1px\; color: rgb(38\, 38\, 38)\; margin: 0px 0px 0.75em\; text-align: center\; background-color: rgb(243\, 160\, 69)\;"><strong>SCHEDULE OF EVENTS</strong></h2>\n\n<h1 style="font-size: 18px\; font-family: adelle\; line-height: 1.2em\; letter-spacing: 1px\; color: rgb(38\, 38\, 38)\; margin: 2em 0px 0.75em\; background-color: rgb(243\, 160\, 69)\;"><strong>The Madison Magazine BBQ Festival will include:&nbsp\;</strong></h1>\n\n<ul style="color: rgb(38\, 38\, 38)\; font-family: Bitter\; font-size: 12px\; line-height: 18px\; background-color: rgb(243\, 160\, 69)\;">\n	<li>Two days of live music</li>\n	<li>BBQ demonstrations</li>\n	<li>Delicious food and drink for sale</li>\n	<li>A Merchandise Market</li>\n	<li>A Children&#39\;s Play Zone</li>\n	<li>A People&#39\;s Choice Vote</li>\n	<li>An Amateur BBQ Competition</li>\n</ul>\n\n<p style="color: rgb(38\, 38\, 38)\; font-family: Bitter\; font-size: 12px\; line-height: 18px\; background-color: rgb(243\, 160\, 69)\;">And much\, much more!</p>\n</div>\n
LOCATION:Meyer Oak Grove Park - Sauk City\, WI
UID:e.1184.4638
SEQUENCE:3
DTSTAMP:20260426T020308Z
URL:http://members.saukprairie.com/events/details/madison-magazine-presents-brews-bikes-bar-b-que-05-13-2016-4638
END:VEVENT

END:VCALENDAR
