BEGIN:VCALENDAR
VERSION:2.0
PRODID:-//ChamberMaster//Event Calendar 2.0//EN
METHOD:PUBLISH
X-PUBLISHED-TTL:P3D
REFRESH-INTERVAL:P3D
CALSCALE:GREGORIAN
BEGIN:VEVENT
DTSTART:20170818T000000Z
DTEND:20170818T020000Z
X-MICROSOFT-CDO-ALLDAYEVENT:FALSE
SUMMARY:Madtown Mannish Boys at the Woodshed Ale House
DESCRIPTION:Booty Shakin' Blues from Madison\, WI.
X-ALT-DESC;FMTTYPE=text/html:<span style="color: rgb(75\, 79\, 86)\; font-family: helvetica\, arial\, sans-serif\; font-size: 14px\;">Booty Shakin&#39\; Blues from Madison\, WI.</span>
LOCATION:Woodshed Ale House 101 Jackson Street
UID:e.1184.11807
SEQUENCE:3
DTSTAMP:20260425T033337Z
URL:http://members.saukprairie.com/events/details/madtown-mannish-boys-at-the-woodshed-ale-house-11807
END:VEVENT

END:VCALENDAR
