BEGIN:VCALENDAR
VERSION:2.0
PRODID:-//ChamberMaster//Event Calendar 2.0//EN
METHOD:PUBLISH
X-PUBLISHED-TTL:P3D
REFRESH-INTERVAL:P3D
CALSCALE:GREGORIAN
BEGIN:VEVENT
DTSTART:20180309T020000Z
DTEND:20180309T040000Z
X-MICROSOFT-CDO-ALLDAYEVENT:FALSE
SUMMARY:Madtown Mannish Boys at Vintage Brewing Co. Sauk Prairie
DESCRIPTION:All kinds of music: Chicago Blues\, Texas Blues\, West Coast Swing\, Delta Blues\, Country Blues\, R&B\, etc. But we're most heavily influenced by Blues from Chicago in the 1960s.
X-ALT-DESC;FMTTYPE=text/html:<span style="color: rgb(75\, 79\, 86)\; font-family: Helvetica\, Arial\, sans-serif\; font-size: 14px\;">All kinds of music: Chicago Blues\, Texas Blues\, West Coast Swing\, Delta Blues\, Country Blues\, R&amp\;B\, etc. But we&#39\;re most heavily influenced by Blues from Chicago in the 1960s.</span>
LOCATION:Vintage Brewing Co. Sauk Prairie 600 Water Street Sauk City\, WI 53583
UID:e.1184.14675
SEQUENCE:3
DTSTAMP:20260424T162254Z
URL:http://members.saukprairie.com/events/details/madtown-mannish-boys-at-vintage-brewing-co-sauk-prairie-14675
END:VEVENT

END:VCALENDAR
