BEGIN:VCALENDAR
VERSION:2.0
PRODID:-//ChamberMaster//Event Calendar 2.0//EN
METHOD:PUBLISH
X-PUBLISHED-TTL:P3D
REFRESH-INTERVAL:P3D
CALSCALE:GREGORIAN
BEGIN:VEVENT
DTSTART:20240908T010000Z
DTEND:20240908T040000Z
X-MICROSOFT-CDO-ALLDAYEVENT:FALSE
SUMMARY:Madtown Mannish Boys at Water Street Social Club
DESCRIPTION:Come on out and listen to the Madtown Mannish Boys at Water Street Social Club\n\n\n\nThe Madtown Mannish Boys are a Madison-based Blues band who are steeped in Chicago-style Blues\, including artists like Muddy Waters\, Junior Wells\, Otis Spann\, Paul Butterfield\, and Little Walter. They perform with raw exuberance and driving rhythms that make you want to boogie. Some of their tunes are harmonica-driven\, played with gritty fervor and intense energy. Others are soulful ballads\, heavily influenced by the likes of Otis Redding and Sam Cooke. This mix of styles and genres makes for an entertaining and dynamic show that you won't want to miss.\n\n \n\n* There is a $10 cover to be paid at the door. We suggest that you arrive about an hour before the show.
X-ALT-DESC;FMTTYPE=text/html:<div>Come on out and listen to the Madtown Mannish Boys at Water Street Social Club<br />\n<br />\nThe Madtown Mannish Boys are a Madison-based Blues band who are steeped in Chicago-style Blues\, including artists like Muddy Waters\, Junior Wells\, Otis Spann\, Paul Butterfield\, and Little Walter. They perform with raw exuberance and driving rhythms that make you want to boogie. Some of their tunes are harmonica-driven\, played with gritty fervor and intense energy. Others are soulful ballads\, heavily influenced by the likes of Otis Redding and Sam Cooke. This mix of styles and genres makes for an entertaining and dynamic show that you won&rsquo\;t want to miss.<br />\n&nbsp\;</div>\n\n<div>* There is a $10 cover to be paid at the door. We suggest that you arrive about an hour before the show.</div>\n
LOCATION:
UID:e.1184.32880
SEQUENCE:3
DTSTAMP:20260419T151801Z
URL:http://members.saukprairie.com/events/details/madtown-mannish-boys-at-water-street-social-club-32880
END:VEVENT

END:VCALENDAR
