BEGIN:VCALENDAR
VERSION:2.0
PRODID:-//ChamberMaster//Event Calendar 2.0//EN
METHOD:PUBLISH
X-PUBLISHED-TTL:P3D
REFRESH-INTERVAL:P3D
CALSCALE:GREGORIAN
BEGIN:VEVENT
DTSTART:20180810T150000Z
DTEND:20180810T160000Z
X-MICROSOFT-CDO-ALLDAYEVENT:FALSE
SUMMARY:Magic of Isaiah
DESCRIPTION:Isaiah will amaze you with magic along with introducing you to books that help create magic.
X-ALT-DESC;FMTTYPE=text/html:&nbsp\;Isaiah will amaze you with magic along with introducing you to books that help create magic.
LOCATION:515 Water St\, Sauk City\, WI 53583
UID:e.1184.20465
SEQUENCE:3
DTSTAMP:20260424T064552Z
URL:http://members.saukprairie.com/events/details/magic-of-isaiah-20465
END:VEVENT

END:VCALENDAR
