BEGIN:VCALENDAR
VERSION:2.0
PRODID:-//ChamberMaster//Event Calendar 2.0//EN
METHOD:PUBLISH
X-PUBLISHED-TTL:P3D
REFRESH-INTERVAL:P3D
CALSCALE:GREGORIAN
BEGIN:VEVENT
DTSTART:20160725T180000Z
DTEND:20160725T190000Z
X-MICROSOFT-CDO-ALLDAYEVENT:FALSE
SUMMARY:Magical Poodle Show
DESCRIPTION:Michelle Harrell and her Magical Poodles create a fun environment to learn all about dogs. Plus\, she will turn a few volunteers from the audience into animal trainers for a day! A hands on meet and greet with the dogs follows the show. All ages are welcome\, but children under 5 must be accompanied by an adult. Contact Beth at 643-8318 with questions.
X-ALT-DESC;FMTTYPE=text/html:Michelle Harrell and her Magical Poodles create a fun environment to learn all about dogs. Plus\, she will turn a few volunteers from the audience into animal trainers for a day! A hands on meet and greet with the dogs follows the show. All ages are welcome\, but children under 5 must be accompanied by an adult. Contact Beth at 643-8318 with questions.
LOCATION:Ruth Culver Community Library 540 Water Street\, Prairie du Sac
UID:e.1184.8500
SEQUENCE:3
DTSTAMP:20260425T224325Z
URL:http://members.saukprairie.com/events/details/magical-poodle-show-07-25-2016-8500
END:VEVENT

END:VCALENDAR
