BEGIN:VCALENDAR
VERSION:2.0
PRODID:-//ChamberMaster//Event Calendar 2.0//EN
METHOD:PUBLISH
X-PUBLISHED-TTL:P3D
REFRESH-INTERVAL:P3D
CALSCALE:GREGORIAN
BEGIN:VEVENT
DTSTART:20190812T190000Z
DTEND:20190812T200000Z
X-MICROSOFT-CDO-ALLDAYEVENT:FALSE
SUMMARY:Maker Monday: LED Origami & Felt Pins
DESCRIPTION:Make origami and felt pins that light-up with the use of LEDs at the Ruth Culver Community Library Monday\, August 12 at 2:00 pm.  Maker Mondays are open to children age 8 and up. Contact Meagan at 643-8318 with questions.
X-ALT-DESC;FMTTYPE=text/html:Make origami and felt pins that light-up with the use of LEDs at the Ruth Culver Community Library Monday\, August 12 at 2:00 pm.&nbsp\; Maker Mondays are open to children age 8 and up. Contact Meagan at 643-8318 with questions.
LOCATION:Ruth Culver Community Library 540 Water Street\, Prairie du Sac
UID:e.1184.22596
SEQUENCE:3
DTSTAMP:20260423T141458Z
URL:http://members.saukprairie.com/events/details/maker-monday-led-origami-felt-pins-22596
END:VEVENT

END:VCALENDAR
