BEGIN:VCALENDAR
VERSION:2.0
PRODID:-//ChamberMaster//Event Calendar 2.0//EN
METHOD:PUBLISH
X-PUBLISHED-TTL:P3D
REFRESH-INTERVAL:P3D
CALSCALE:GREGORIAN
BEGIN:VEVENT
DTSTART:20190826T190000Z
DTEND:20190826T200000Z
X-MICROSOFT-CDO-ALLDAYEVENT:FALSE
SUMMARY:Maker Monday: Slime
DESCRIPTION:Be prepared to get messy as you mix up a batch of your own slime at the Ruth Culver Community Library Monday\, August 26 at 2:00 pm.  Registration is appreciated this week. Maker Mondays are open to children age 8 and up. Contact Meagan at 643-8318 with questions.
X-ALT-DESC;FMTTYPE=text/html:Be prepared to get messy as you mix up a batch of your own slime at the Ruth Culver Community Library Monday\, August 26 at 2:00 pm.&nbsp\; Registration is appreciated this week. Maker Mondays are open to children age 8 and up. Contact Meagan at 643-8318 with questions.
LOCATION:Ruth Culver Community Library 540 Water Street\, Prairie du Sac
UID:e.1184.22598
SEQUENCE:3
DTSTAMP:20260423T124114Z
URL:http://members.saukprairie.com/events/details/maker-monday-slime-22598
END:VEVENT

END:VCALENDAR
