BEGIN:VCALENDAR
VERSION:2.0
PRODID:-//ChamberMaster//Event Calendar 2.0//EN
METHOD:PUBLISH
X-PUBLISHED-TTL:P3D
REFRESH-INTERVAL:P3D
CALSCALE:GREGORIAN
BEGIN:VEVENT
DTSTART:20190805T190000Z
DTEND:20190805T200000Z
X-MICROSOFT-CDO-ALLDAYEVENT:FALSE
SUMMARY:Maker Monday: Stop Motion Animation
DESCRIPTION:Make your own brief movie at the Ruth Culver Community Library using stop-motion animation kits and library props. Maker Mondays is open to children ages 8 and up. Contact Meagan at 643-8318 with questions.
X-ALT-DESC;FMTTYPE=text/html:Make your own brief movie at the Ruth Culver Community Library using stop-motion animation kits and library props. Maker Mondays is open to children ages 8 and up. Contact Meagan at 643-8318 with questions.
LOCATION:Ruth Culver Community Library 540 Water Street\, Prairie du Sac
UID:e.1184.22595
SEQUENCE:3
DTSTAMP:20260423T124112Z
URL:http://members.saukprairie.com/events/details/maker-monday-stop-motion-animation-22595
END:VEVENT

END:VCALENDAR
