BEGIN:VCALENDAR
VERSION:2.0
PRODID:-//ChamberMaster//Event Calendar 2.0//EN
METHOD:PUBLISH
X-PUBLISHED-TTL:P3D
REFRESH-INTERVAL:P3D
CALSCALE:GREGORIAN
BEGIN:VEVENT
DTSTART:20210418T230000Z
DTEND:20210419T000000Z
X-MICROSOFT-CDO-ALLDAYEVENT:FALSE
SUMMARY:Making a Case for College: Tourism and Hospitality Business
DESCRIPTION:UW-Platteville Continuing Education Institute Presents:\n\nMaking a Case for College: Why Getting a Degree or Advanced Training is Essential Today \n\nHear from business recruitment experts and educational leaders as they answer your questions about degree or upskilling programs that can put you where you want to be in your career. Learn how to get there in this interactive series. Find out why pursuing a degree or continuing education program is not going away. \n\n \n\nPanel #1: The Tourism and Hospitality Business\n\nSunday\, April 18\, 6pm CDT\n\nFeaturing Kalahari Corporate Director of Recruitment Jason Manke and School of Business Director and Associate Professor Dr. Leslie Hollingsworth. \n\nPanel # 2: Engineering\n\nSunday\, April 25\, 6pm CT\n\nFeaturing Engineering Physics Professor and Department Chair Dr. Andy Pawl and CEO of MSA Professional Services Gil Hantzsch\, PE.\n\nPanel # 3 Food and Agriculture\n\nSunday\, May 2\, 6pm CT \n\nFeaturing Senior Vice President and CFO of Foremost Farms and School of Agriculture Professor and Liaison for the Dairy Innovation Hub Tera Montgomery\n\nPre-registration is required for these FREE one-hour webinars.\n\nVisit Go.UWPlatt.edu/MCFC-Registration to register.\n\nFor questions\, email Rebecca Powell at powellre@uwplatt.edu
X-ALT-DESC;FMTTYPE=text/html:<strong><span style="color:#333333"><span style="font-family:arial\,sans-serif"><span style="font-size:10.0pt">UW-Platteville Continuing Education Institute Presents:</span></span></span></strong><br />\n<span style="color:#333333"><span style="font-family:arial\,sans-serif"><span style="font-size:10.0pt">Making a Case for College: Why Getting a Degree or Advanced Training is Essential Today&nbsp\;</span></span></span><br />\n<span style="color:#333333"><span style="font-family:arial\,sans-serif"><span style="font-size:10.0pt">Hear from business recruitment experts and educational leaders as they answer your questions about degree or upskilling programs that can put you where you want to be in your career. Learn how to get there in this interactive series. Find out why pursuing a degree or continuing education program is not going away. </span></span></span><br />\n&nbsp\;<br />\n<strong><span style="color:#333333"><span style="font-family:arial\,sans-serif"><span style="font-size:10.0pt">Panel #1: The Tourism and Hospitality Business</span></span></span></strong><br />\n<span style="color:#333333"><span style="font-family:arial\,sans-serif"><span style="font-size:10.0pt">Sunday\, April 18\, 6pm CDT</span></span></span><br />\n<span style="color:#333333"><span style="font-family:arial\,sans-serif"><span style="font-size:10.0pt">Featuring Kalahari Corporate Director of Recruitment Jason Manke and School of Business Director and Associate Professor Dr. Leslie Hollingsworth. </span></span></span><br />\n<strong><span style="color:#333333"><span style="font-family:arial\,sans-serif"><span style="font-size:10.0pt">Panel # 2: Engineering</span></span></span></strong><br />\n<span style="color:#333333"><span style="font-family:arial\,sans-serif"><span style="font-size:10.0pt">Sunday\, April 25\, 6pm CT</span></span></span><br />\n<span style="color:#333333"><span style="font-family:arial\,sans-serif"><span style="font-size:10.0pt">Featuring Engineering Physics Professor and Department Chair Dr. Andy Pawl and CEO of MSA Professional Services Gil Hantzsch\, PE.</span></span></span><br />\n<strong><span style="color:#333333"><span style="font-family:arial\,sans-serif"><span style="font-size:10.0pt">Panel # 3 Food and Agriculture</span></span></span></strong><br />\n<span style="color:#333333"><span style="font-family:arial\,sans-serif"><span style="font-size:10.0pt">Sunday\, May 2\, 6pm CT </span></span></span><br />\n<span style="color:#333333"><span style="font-family:arial\,sans-serif"><span style="font-size:10.0pt">Featuring Senior Vice President and CFO of Foremost Farms and School of Agriculture Professor and Liaison for the Dairy Innovation Hub Tera Montgomery</span></span></span><br />\n<span style="color:#333333"><span style="font-family:arial\,sans-serif"><span style="font-size:10.0pt">Pre-registration is required for these FREE one-hour webinars.</span></span></span><br />\n<span style="color:#333333"><span style="font-family:arial\,sans-serif"><span style="font-size:10.0pt">Visit <a href="http://Go.UWPlatt.edu/MCFC-Registration" target="_blank">Go.UWPlatt.edu/MCFC-Registration</a> to register.</span></span></span><br />\n<span style="color:#333333"><span style="font-family:arial\,sans-serif"><span style="font-size:10.0pt">For questions\, email Rebecca Powell at <a href="mailto:powellre@uwplatt.edu">powellre@uwplatt.edu</a> </span></span></span>
LOCATION:virtual\, through zoom
UID:e.1184.26586
SEQUENCE:3
DTSTAMP:20260422T064418Z
URL:http://members.saukprairie.com/events/details/making-a-case-for-college-tourism-and-hospitality-business-26586
END:VEVENT

END:VCALENDAR
