BEGIN:VCALENDAR
VERSION:2.0
PRODID:-//ChamberMaster//Event Calendar 2.0//EN
METHOD:PUBLISH
X-PUBLISHED-TTL:P3D
REFRESH-INTERVAL:P3D
CALSCALE:GREGORIAN
BEGIN:VEVENT
DTSTART;VALUE=DATE:20231003
DTEND;VALUE=DATE:20231004
TRANSP:TRANSPARENT
X-MICROSOFT-CDO-ALLDAYEVENT:TRUE
SUMMARY:Mama Bears
DESCRIPTION:First United Church of Chris and John Joseph Coffee Present A Free Public Screening at the George Culver Community Library on October 3rd. Doors open at 5:30pm\; Movie starts at 6pm.\n\n\n\nSpread across the country but connected through private Facebook groups\, they call themselves "mama bears" because while their love is warm and fuzzy\, they fight ferociously to make the world kinder and safer for all LGBTQ+ people. Although some may have grown up as fundamentalist\, evangelical Christians\, mama bears are willing to risk losing friends\, family\, and faith communities to keep their offspring safe - even if it challenges their belief systems and rips their worlds apart.\n\n\n\nMAMA BEARS is an intimate\, thought-provoking exploration of the journeys taken by Sara Cunningham and Kimberly Shappley\, two "mama bears" - whose profound love for their LGBTQ children has turned them into fierce advocates for the entire queer community - and Tammi Terrell Morris\, a young African American lesbian whose struggle for self-acceptance perfectly exemplifies why the Mama Bears are so vitally important.
X-ALT-DESC;FMTTYPE=text/html:First United Church of Chris and John Joseph Coffee Present A Free Public Screening at the George Culver Community Library on October 3rd. Doors open at 5:30pm\; Movie starts at 6pm.<br />\n<br />\nSpread across the country but connected through private Facebook groups\, they call themselves &quot\;mama bears&quot\; because while their love is warm and fuzzy\, they fight ferociously to make the world kinder and safer for all LGBTQ+ people. Although some may have grown up as fundamentalist\, evangelical Christians\, mama bears are willing to risk losing friends\, family\, and faith communities to keep their offspring safe - even if it challenges their belief systems and rips their worlds apart.<br />\n<br />\nMAMA BEARS is an intimate\, thought-provoking exploration of the journeys taken by Sara Cunningham and Kimberly Shappley\, two &quot\;mama bears&quot\; - whose profound love for their LGBTQ children has turned them into fierce advocates for the entire queer community - and Tammi Terrell Morris\, a young African American lesbian whose struggle for self-acceptance perfectly exemplifies why the Mama Bears are so vitally important.
LOCATION:George Culver Community Library
UID:e.1184.31030
SEQUENCE:3
DTSTAMP:20260420T073314Z
URL:http://members.saukprairie.com/events/details/mama-bears-31030
END:VEVENT

END:VCALENDAR
