BEGIN:VCALENDAR
VERSION:2.0
PRODID:-//ChamberMaster//Event Calendar 2.0//EN
METHOD:PUBLISH
X-PUBLISHED-TTL:P3D
REFRESH-INTERVAL:P3D
CALSCALE:GREGORIAN
BEGIN:VEVENT
DTSTART:20200415T183000Z
DTEND:20200415T193000Z
X-MICROSOFT-CDO-ALLDAYEVENT:FALSE
SUMMARY:Managing through Transition - The Human Side of Change
DESCRIPTION:Understanding how to transition people through change is an invaluable management skill for navigating through these uncertain times:\n\n \n\n  Learn the key differences between Change and Transition.\n\n  Understand the phases all people go through transitioning through change.\n\n  Identify ways to support your team\, colleagues and customers to a "New Beginning" by fostering creativity and innovation!\n\n  How does today influence how you will operate differently in the future?
X-ALT-DESC;FMTTYPE=text/html:<div>Understanding how to transition people through change is an invaluable management skill for navigating through these uncertain times:</div>\n\n<div>&nbsp\;</div>\n\n<div>&#9679\; Learn the key differences between Change and Transition.</div>\n\n<div>&#9679\; Understand the phases all people go through&nbsp\;transitioning through change.</div>\n\n<div>&#9679\; Identify ways to support your team\, colleagues and&nbsp\;customers to a &ldquo\;New Beginning&rdquo\; by fostering creativity and innovation!<br />\n&#9679\; How does today influence how you will operate&nbsp\;differently in the future?</div>\n
LOCATION:Virtual Meeting Personal Meeting ID: 975-594-3227 https://zoom.us/j/9755943227
UID:e.1184.24363
SEQUENCE:3
DTSTAMP:20260423T024600Z
URL:http://members.saukprairie.com/events/details/managing-through-transition-the-human-side-of-change-24363
END:VEVENT

END:VCALENDAR
