BEGIN:VCALENDAR
VERSION:2.0
PRODID:-//ChamberMaster//Event Calendar 2.0//EN
METHOD:PUBLISH
X-PUBLISHED-TTL:P3D
REFRESH-INTERVAL:P3D
CALSCALE:GREGORIAN
BEGIN:VEVENT
DTSTART:20181102T010000Z
DTEND:20181102T030000Z
X-MICROSOFT-CDO-ALLDAYEVENT:FALSE
SUMMARY:Mannish Boys at Vintage Brewing
DESCRIPTION:Soul shakin' Blues from Madison\, WI.
X-ALT-DESC;FMTTYPE=text/html:<div class="_63eu" style="box-sizing: border-box\; font-size: 14px\; max-height: 260px\; overflow: hidden\; padding: 12px\; overflow-wrap: break-word\; font-family: Helvetica\, Arial\, sans-serif\; color: rgb(29\, 33\, 41)\;">\n<div class="_63ew" data-testid="event-permalink-details" style="font-family: inherit\;"><span style="font-family: inherit\;">Soul shakin&#39\; Blues from Madison\, WI.</span></div>\n\n<div>&nbsp\;</div>\n</div>\n
LOCATION:Vintage Brewing Co. 600 Water St. Sauk City
UID:e.1184.21359
SEQUENCE:3
DTSTAMP:20260424T021936Z
URL:http://members.saukprairie.com/events/details/mannish-boys-at-vintage-brewing-21359
END:VEVENT

END:VCALENDAR
