BEGIN:VCALENDAR
VERSION:2.0
PRODID:-//ChamberMaster//Event Calendar 2.0//EN
METHOD:PUBLISH
X-PUBLISHED-TTL:P3D
REFRESH-INTERVAL:P3D
CALSCALE:GREGORIAN
BEGIN:VEVENT
DTSTART:20200306T020000Z
DTEND:20200306T050000Z
X-MICROSOFT-CDO-ALLDAYEVENT:FALSE
SUMMARY:Mannish Boys at Vintage Brewing
DESCRIPTION:The Madtown Mannish Boys are a Madison-based Blues band who are steeped in Chicago-style Blues\, including artists like Muddy Waters\, Junior Wells\, Otis Spann\, Paul Butterfield\, and Little Walter. They perform with raw exuberance and driving rhythms that make you want to boogie. \n\n\n\nmadtownmannishboys.com
X-ALT-DESC;FMTTYPE=text/html:<div class="_63eu" style="box-sizing: border-box\; font-size: 14px\; max-height: 260px\; overflow: hidden\; padding: 12px\; overflow-wrap: break-word\; font-family: Helvetica\, Arial\, sans-serif\; color: rgb(29\, 33\, 41)\;">\n<div class="_63ew" data-testid="event-permalink-details" style="font-family: inherit\;"><span style="color: rgb(29\, 33\, 41)\; font-family: Helvetica\, Arial\, sans-serif\; font-size: 14px\; white-space: pre-wrap\;">The Madtown Mannish Boys are a Madison-based Blues band who are steeped in Chicago-style Blues\, including artists like Muddy Waters\, Junior Wells\, Otis Spann\, Paul Butterfield\, and Little Walter. They perform with raw exuberance and driving rhythms that make you want to boogie. </span><br style="color: rgb(29\, 33\, 41)\; font-family: Helvetica\, Arial\, sans-serif\; font-size: 14px\; white-space: pre-wrap\;" />\n<br style="color: rgb(29\, 33\, 41)\; font-family: Helvetica\, Arial\, sans-serif\; font-size: 14px\; white-space: pre-wrap\;" />\n<a data-lynx-mode="hover" data-lynx-uri="https://l.facebook.com/l.php?u=http%3A%2F%2Fmadtownmannishboys.com%2F%3Ffbclid%3DIwAR1OCsuLIKE5GCeQf0G37uoQy747jW1YRrYYRK7T4oR9bv0b6p9uKQ_1JiA&amp\;h=AT2z8g3c-SzGSn-M7rG_4nNDWmuMdWtSIwzk-U_l5EXl3fBnOj1GSGuUwdTtSJOWB-2rZpM52SGVQyRdpMwC5d2230Ru54BGd4gMKcIbZH-l9FW2ZBm6uxCqm05PgPZJOUTj" href="http://madtownmannishboys.com/?fbclid=IwAR1OCsuLIKE5GCeQf0G37uoQy747jW1YRrYYRK7T4oR9bv0b6p9uKQ_1JiA" rel="nofollow noopener" style="color: rgb(56\, 88\, 152)\; cursor: pointer\; text-decoration-line: none\; font-family: Helvetica\, Arial\, sans-serif\; font-size: 14px\; white-space: pre-wrap\;" target="_blank">madtownmannishboys.com</a></div>\n\n<div>&nbsp\;</div>\n</div>\n
LOCATION:Vintage Brewing Co. 600 Water St. Sauk City
UID:e.1184.24083
SEQUENCE:3
DTSTAMP:20260423T025750Z
URL:http://members.saukprairie.com/events/details/mannish-boys-at-vintage-brewing-24083
END:VEVENT

END:VCALENDAR
