BEGIN:VCALENDAR
VERSION:2.0
PRODID:-//ChamberMaster//Event Calendar 2.0//EN
METHOD:PUBLISH
X-PUBLISHED-TTL:P3D
REFRESH-INTERVAL:P3D
CALSCALE:GREGORIAN
BEGIN:VEVENT
DTSTART:20180720T010000Z
DTEND:20180720T030000Z
X-MICROSOFT-CDO-ALLDAYEVENT:FALSE
SUMMARY:Mannish Boys at Vintage Brewing Co. Sauk Prairie
DESCRIPTION:Like our page and check out our album: https://www.facebook.com/madtownmannishboys/app/190322544333196/
X-ALT-DESC;FMTTYPE=text/html:<span style="color: rgb(29\, 33\, 41)\; font-family: Helvetica\, Arial\, sans-serif\; font-size: 14px\;">Like our page and check out our album:&nbsp\;</span><a href="https://www.facebook.com/madtownmannishboys/app/190322544333196/" style="color: rgb(54\, 88\, 153)\; cursor: pointer\; text-decoration-line: none\; font-family: Helvetica\, Arial\, sans-serif\; font-size: 14px\;" target="_blank">https://www.facebook.com/madtownmannishboys/app/190322544333196/</a>
LOCATION:Vintage Brewing Co. Sauk Prairie 600 Water Street Sauk City\, WI 53583
UID:e.1184.18380
SEQUENCE:3
DTSTAMP:20260424T082950Z
URL:http://members.saukprairie.com/events/details/mannish-boys-at-vintage-brewing-co-sauk-prairie-18380
END:VEVENT

END:VCALENDAR
