BEGIN:VCALENDAR
VERSION:2.0
PRODID:-//ChamberMaster//Event Calendar 2.0//EN
METHOD:PUBLISH
X-PUBLISHED-TTL:P3D
REFRESH-INTERVAL:P3D
CALSCALE:GREGORIAN
BEGIN:VEVENT
DTSTART:20200916T160000Z
DTEND:20200916T170000Z
X-MICROSOFT-CDO-ALLDAYEVENT:FALSE
SUMMARY:Manufacturing Virtual Roundtable
DESCRIPTION:Industry leaders will come together to share best practices\, employee recruitment strategies & industry needs.
X-ALT-DESC;FMTTYPE=text/html:&nbsp\;Industry leaders will come together to share best practices\, employee recruitment strategies &amp\; industry needs.
LOCATION:Meeting ID meet.google.com/nmc-hbuh-ueh Phone Numbers ( US ) +1 216-839-0875 PIN: 691 516 448#
UID:e.1184.26087
SEQUENCE:3
DTSTAMP:20260422T165228Z
URL:http://members.saukprairie.com/events/details/manufacturing-virtual-roundtable-26087
END:VEVENT

END:VCALENDAR
