BEGIN:VCALENDAR
VERSION:2.0
PRODID:-//ChamberMaster//Event Calendar 2.0//EN
METHOD:PUBLISH
X-PUBLISHED-TTL:P3D
REFRESH-INTERVAL:P3D
CALSCALE:GREGORIAN
BEGIN:VEVENT
DTSTART:20200415T193000Z
DTEND:20200415T203000Z
X-MICROSOFT-CDO-ALLDAYEVENT:FALSE
SUMMARY:Maple Syrup!
DESCRIPTION:Join Heidi from Roots & Shoots at the Ruth Culver Community Library Wednesday\, April 15 at 2:30 p.m. She'll share how maple syrup is made and we'll do some sampling - including on pancakes! This Early Release Wednesday event is appropriate for grades K-5. Contact Beth at 643-8318 with questions.
X-ALT-DESC;FMTTYPE=text/html:Join Heidi from Roots &amp\; Shoots at the Ruth Culver Community Library Wednesday\, April 15 at 2:30 p.m. She&#39\;ll share how maple syrup is made and we&#39\;ll do some sampling - including on pancakes! This Early Release Wednesday event is appropriate for grades K-5. Contact Beth at 643-8318 with questions.
LOCATION:Ruth Culver Community Library 540 Water Street\, Prairie du Sac
UID:e.1184.23918
SEQUENCE:3
DTSTAMP:20260423T024437Z
URL:http://members.saukprairie.com/events/details/maple-syrup-23918
END:VEVENT

END:VCALENDAR
