BEGIN:VCALENDAR
VERSION:2.0
PRODID:-//ChamberMaster//Event Calendar 2.0//EN
METHOD:PUBLISH
X-PUBLISHED-TTL:P3D
REFRESH-INTERVAL:P3D
CALSCALE:GREGORIAN
BEGIN:VEVENT
DTSTART:20160602T133000Z
DTEND:20160602T173500Z
X-MICROSOFT-CDO-ALLDAYEVENT:FALSE
SUMMARY:Maplewood AARP Driver's Safety Class
DESCRIPTION:Join Maplewood for their AARP Driver's Safety Class. \n\n	Improve Driving\n	Reduce Insurance Rates
X-ALT-DESC;FMTTYPE=text/html:Join Maplewood for their AARP Driver&#39\;s Safety Class.&nbsp\;\n<ul>\n	<li>Improve Driving</li>\n	<li>Reduce Insurance Rates</li>\n</ul>\n
LOCATION:Maplewood 245 Sycamore Street Sauk City\, WI 53583
UID:e.1184.8560
SEQUENCE:3
DTSTAMP:20260426T020059Z
URL:http://members.saukprairie.com/events/details/maplewood-aarp-driver-s-safety-class-06-02-2016-8560
END:VEVENT

END:VCALENDAR
