BEGIN:VCALENDAR
VERSION:2.0
PRODID:-//ChamberMaster//Event Calendar 2.0//EN
METHOD:PUBLISH
X-PUBLISHED-TTL:P3D
REFRESH-INTERVAL:P3D
CALSCALE:GREGORIAN
BEGIN:VEVENT
DTSTART:20191206T143000Z
DTEND:20191207T210000Z
X-MICROSOFT-CDO-ALLDAYEVENT:FALSE
SUMMARY:Maplewood Resident Bazaar - Crafts & Bake Sale
DESCRIPTION:Let Maplewood residents do your baking and craft creation. Come to Maplewood's Activities room (245 Sycamore St\, Sauk City WI 53583) for Maplewood's Bazaar on the first weekend in Dec: Friday\, Dec 6th 8:30-3:30 and Saturday\, Dec 7th: 8:30   11:00. Home baked goods such as cookies\, bars\, bread\, and pies will be featured as well as craft items. All the money collected from your purchases will go to the Resident Council. This money is used to purchase items the residents want/need. Bring a friend or two!
X-ALT-DESC;FMTTYPE=text/html:<span style="color: rgb(29\, 33\, 41)\; font-family: Helvetica\, Arial\, sans-serif\; font-size: 14px\; white-space: pre-wrap\;">Let Maplewood residents do your baking and craft creation. Come to Maplewood&rsquo\;s Activities room (245 Sycamore St\, Sauk City WI 53583) for Maplewood&rsquo\;s Bazaar on the first weekend in Dec: Friday\, Dec 6th 8:30-3:30 and Saturday\, Dec 7th: 8:30 &ndash\; 11:00. Home baked goods such as cookies\, bars\, bread\, and pies will be featured as well as craft items. All the money collected from your purchases will go to the Resident Council. This money is used to purchase items the residents want/need. Bring a friend or two!</span>
LOCATION:Maplewood Sauk Prairie\, 245 Sycamore St.\, Sauk City\, WI 53583
UID:e.1184.23848
SEQUENCE:3
DTSTAMP:20260423T070500Z
URL:http://members.saukprairie.com/events/details/maplewood-resident-bazaar-crafts-bake-sale-23848
END:VEVENT

END:VCALENDAR
