BEGIN:VCALENDAR
VERSION:2.0
PRODID:-//ChamberMaster//Event Calendar 2.0//EN
METHOD:PUBLISH
X-PUBLISHED-TTL:P3D
REFRESH-INTERVAL:P3D
CALSCALE:GREGORIAN
BEGIN:VEVENT
DTSTART:20181007T200000Z
DTEND:20181007T221500Z
X-MICROSOFT-CDO-ALLDAYEVENT:FALSE
SUMMARY:marching band invite
DESCRIPTION:
X-ALT-DESC;FMTTYPE=text/html:
LOCATION:high school field
UID:e.1184.21348
SEQUENCE:3
DTSTAMP:20260424T033625Z
URL:http://members.saukprairie.com/events/details/marching-band-invite-21348
END:VEVENT

END:VCALENDAR
