BEGIN:VCALENDAR
VERSION:2.0
PRODID:-//ChamberMaster//Event Calendar 2.0//EN
METHOD:PUBLISH
X-PUBLISHED-TTL:P3D
REFRESH-INTERVAL:P3D
CALSCALE:GREGORIAN
BEGIN:VEVENT
DTSTART:20200430T173000Z
DTEND:20200430T183000Z
X-MICROSOFT-CDO-ALLDAYEVENT:FALSE
SUMMARY:Martha Glowacki
DESCRIPTION:Martha Glowacki - Visiting Artist Lecture\n\n\n\nBorn and raised in Milwaukee\, Martha Glowacki received her MFA form the University of Wisconsin-Madison. She has served as the curator of the Design Gallery at the University of Wisconsin-Madison and director of the James Watrous Gallery of the Wisconsin Academy of Sciences\, Arts & Letters. Previous to her work as a curator\, she was a lecturer in metalsmithing at the University of Wisconsin-Madison and at the University of Wisconsin-Milwaukee.  She is particularly interested in intersections between visual art and the natural sciences. Her work has been shown at the School of the Art Institue of Chicago\; the Milwaukee Art Museum\; Contemporary Arts Center\, Cininnati\; the Chazen Meseum of Art and the John Michael Kohler Arts Center\, among others. She has been the recipient of grants from the Wisconsin Arts Board and the National Endownment for the Arts.
X-ALT-DESC;FMTTYPE=text/html:Martha Glowacki - Visiting Artist Lecture<br />\n<br />\nBorn and raised in Milwaukee\, Martha Glowacki received her MFA form the University of Wisconsin-Madison. She has served as the curator of the Design Gallery at the University of Wisconsin-Madison and director of the James Watrous Gallery of the Wisconsin Academy of Sciences\, Arts &amp\; Letters. Previous to her work as a curator\, she was a lecturer in metalsmithing at the University of Wisconsin-Madison and at the University of Wisconsin-Milwaukee.&nbsp\; She is particularly interested in intersections between visual art and the natural sciences. Her work has been shown at the School of the Art Institue of Chicago\; the Milwaukee Art Museum\; Contemporary Arts Center\, Cininnati\; the Chazen Meseum of Art and the John Michael Kohler Arts Center\, among others. She has been the recipient of grants from the Wisconsin Arts Board and the National Endownment for the Arts.
LOCATION:UW-Plattville Baraboo Sauk County Room A104
UID:e.1184.24139
SEQUENCE:3
DTSTAMP:20260423T024501Z
URL:http://members.saukprairie.com/events/details/martha-glowacki-24139
END:VEVENT

END:VCALENDAR
