BEGIN:VCALENDAR
VERSION:2.0
PRODID:-//ChamberMaster//Event Calendar 2.0//EN
METHOD:PUBLISH
X-PUBLISHED-TTL:P3D
REFRESH-INTERVAL:P3D
CALSCALE:GREGORIAN
BEGIN:VEVENT
DTSTART:20191205T000000Z
DTEND:20191205T014500Z
X-MICROSOFT-CDO-ALLDAYEVENT:FALSE
SUMMARY:Mason Jar Mixes
DESCRIPTION:Make make mason jar mixes at the Ruth Culver Community Library Wednesday\, December 4 at 6:00 p.m.  These would be great to give as gifts or keep for yourself! Open to ages 18 and up. Registration is required. Contact Charlene at 643-8318 with questions.  Thank you to the Friends of the Ruth Culver Community Library for sponsoring this event.
X-ALT-DESC;FMTTYPE=text/html:Make make mason jar mixes at the Ruth Culver Community Library Wednesday\, December 4 at 6:00 p.m.&nbsp\; These would be great to give as gifts or keep for yourself! Open to ages 18 and up. Registration is required. Contact Charlene at 643-8318 with questions.&nbsp\; Thank you to the Friends of the Ruth Culver Community Library for sponsoring this event.
LOCATION:Ruth Culver Community Library 540 Water Street\, Prairie du Sac
UID:e.1184.22505
SEQUENCE:3
DTSTAMP:20260423T070321Z
URL:http://members.saukprairie.com/events/details/mason-jar-mixes-22505
END:VEVENT

END:VCALENDAR
