BEGIN:VCALENDAR
VERSION:2.0
PRODID:-//ChamberMaster//Event Calendar 2.0//EN
METHOD:PUBLISH
X-PUBLISHED-TTL:P3D
REFRESH-INTERVAL:P3D
CALSCALE:GREGORIAN
BEGIN:VEVENT
DTSTART:20240313T163000Z
DTEND:20240313T180000Z
X-MICROSOFT-CDO-ALLDAYEVENT:FALSE
SUMMARY:Maximize Your Chamber Membership with these Best Practices
DESCRIPTION:We invite you to:\n\n	Meet new members\n	Learn about ChamberMaster\n	Learn how to promote your business\n	Lunch will be provided
X-ALT-DESC;FMTTYPE=text/html:We invite you to:\n<ul>\n	<li>Meet new members</li>\n	<li>Learn about ChamberMaster</li>\n	<li>Learn how to promote your business</li>\n	<li>Lunch will be provided</li>\n</ul>\n
LOCATION:Sauk Prairie Area Chamber of Commerce 109 Phillips Blvd. Sauk City\, WI 53583
UID:e.1184.31374
SEQUENCE:3
DTSTAMP:20260419T231851Z
URL:http://members.saukprairie.com/events/details/maximize-your-chamber-membership-with-these-best-practices-31374
END:VEVENT

END:VCALENDAR
