BEGIN:VCALENDAR
VERSION:2.0
PRODID:-//ChamberMaster//Event Calendar 2.0//EN
METHOD:PUBLISH
X-PUBLISHED-TTL:P3D
REFRESH-INTERVAL:P3D
CALSCALE:GREGORIAN
BEGIN:VEVENT
DTSTART:20190831T220000Z
DTEND:20190901T010000Z
X-MICROSOFT-CDO-ALLDAYEVENT:FALSE
SUMMARY:Mayflight at Village Pub
DESCRIPTION:Join us for live alternative rock music from Mayflight\, Saturday August 31st! Stop by to hear this 3 piece rock group's catchy original songs mixed in with rock and roll covers\, featuring songs from bands like Tom Petty\, CCR\, and the Foo Fighters. Music from 5-8pm.
X-ALT-DESC;FMTTYPE=text/html:<span style="color: rgb(29\, 33\, 41)\; font-family: Helvetica\, Arial\, sans-serif\; font-size: 14px\; white-space: pre-wrap\; background-color: rgb(255\, 255\, 255)\;">Join us for live alternative rock music from Mayflight\, Saturday August 31st! Stop by to hear this 3 piece rock group&rsquo\;s catchy original songs mixed in with rock and roll covers\, featuring songs from bands like Tom Petty\, CCR\, and the Foo Fighters. Music from 5-8pm. </span>
LOCATION:Village Pub 101 Jackson St. Sauk City
UID:e.1184.22711
SEQUENCE:3
DTSTAMP:20260423T124114Z
URL:http://members.saukprairie.com/events/details/mayflight-at-village-pub-22711
END:VEVENT

END:VCALENDAR
