BEGIN:VCALENDAR
VERSION:2.0
PRODID:-//ChamberMaster//Event Calendar 2.0//EN
METHOD:PUBLISH
X-PUBLISHED-TTL:P3D
REFRESH-INTERVAL:P3D
CALSCALE:GREGORIAN
BEGIN:VEVENT
DTSTART;VALUE=DATE:20170826
DTEND;VALUE=DATE:20170827
TRANSP:TRANSPARENT
X-MICROSOFT-CDO-ALLDAYEVENT:TRUE
SUMMARY:McFarlane Mfg Co. Inc Centennial Celebration
DESCRIPTION:Join McFarlane Mfg Co. Inc. Centennial Celebration on August 26th!\n\n\n\nGate opens at 1pm\n\n\n\nMeyer Oak Grove Park\, Sauk City\, WI 53583\n\n\n\nJoin us as we celebrate our 100 years of service to this community and help us to honor the families of those who have given the ultimate sacrifice while serving our communities and our country in our Armed Forces as well as local Police\, Fire and EMS. Proceeds from this event will support: A.J.N. Freedom Isn't Free Memorial.\n\n\n\nFree Admisions | All Ages Welcome | Food | Live Music
X-ALT-DESC;FMTTYPE=text/html:Join McFarlane Mfg Co. Inc. Centennial Celebration on August 26th!<br />\n<br />\nGate opens at 1pm<br />\n<br />\nMeyer Oak Grove Park\, Sauk City\, WI 53583<br />\n<br />\nJoin us as we celebrate our 100 years of service to this community and help us to honor the families of those who have given the ultimate sacrifice while serving our communities and our country in our Armed Forces as well as local Police\, Fire and EMS. Proceeds from this event will support: A.J.N. Freedom Isn&#39\;t Free Memorial.<br />\n<br />\nFree Admisions | All Ages Welcome | Food | Live Music<br />\n&nbsp\;
LOCATION:
UID:e.1184.12892
SEQUENCE:3
DTSTAMP:20260425T014406Z
URL:http://members.saukprairie.com/events/details/mcfarlane-mfg-co-inc-centennial-celebration-12892
END:VEVENT

END:VCALENDAR
