BEGIN:VCALENDAR
VERSION:2.0
PRODID:-//ChamberMaster//Event Calendar 2.0//EN
METHOD:PUBLISH
X-PUBLISHED-TTL:P3D
REFRESH-INTERVAL:P3D
CALSCALE:GREGORIAN
BEGIN:VEVENT
DTSTART:20250215T153000Z
DTEND:20250215T180000Z
X-MICROSOFT-CDO-ALLDAYEVENT:FALSE
SUMMARY:McFarlanes Kids Pedal Pull
DESCRIPTION:Pedal Pull at McFarlane's Retail Center!  \n\n  Date: Saturday\, February 15th\n\n  Time: Sign-up at 9:30 AM | Kids Pedal Event at 10:30 AM\n\n  Location: McFarlane's Retail Center\n\n  Free for ages 4-12! Kids can test their pedal power and compete for great awards\, including toy tractors!\n\n  While you're here\, shop for your pets\, find something for yourself\, and check out all the equipment on display.\n\n  A fun-filled event for the whole family don't miss it!
X-ALT-DESC;FMTTYPE=text/html:<p>&#11088\; <strong>Pedal Pull&nbsp\;at McFarlane&rsquo\;s Retail Center!</strong> &#11088\;</p>\n\n<p>&#11088\; <strong>Date:</strong>&nbsp\;Saturday\, February 15th<br />\n&#11088\; <strong>Time:</strong> Sign-up at 9:30 AM | Kids Pedal Event at 10:30 AM<br />\n&#11088\; <strong>Location:</strong> McFarlane&rsquo\;s Retail Center</p>\n\n<p>&#11088\; <strong>Free for ages 4-12!</strong> Kids can test their pedal power and compete for <strong>great awards\, including toy tractors!</strong></p>\n\n<p>&#11088\; While you&#39\;re here\, <strong>shop for your pets\, find something for yourself\, and check out all the equipment on display.</strong></p>\n\n<p>&#11088\; A fun-filled event for the whole family&mdash\;don&rsquo\;t miss it!</p>\n
LOCATION:
UID:e.1184.34827
SEQUENCE:3
DTSTAMP:20260419T121421Z
URL:http://members.saukprairie.com/events/details/mcfarlanes-kids-pedal-pull-34827
END:VEVENT

END:VCALENDAR
