BEGIN:VCALENDAR
VERSION:2.0
PRODID:-//ChamberMaster//Event Calendar 2.0//EN
METHOD:PUBLISH
X-PUBLISHED-TTL:P3D
REFRESH-INTERVAL:P3D
CALSCALE:GREGORIAN
BEGIN:VEVENT
DTSTART:20190504T200000Z
DTEND:20190504T220000Z
X-MICROSOFT-CDO-ALLDAYEVENT:FALSE
SUMMARY:Meat Raffle
DESCRIPTION:May the fourth be with you to win meat\, drink chips\, t-shirts\, and other prizes!
X-ALT-DESC;FMTTYPE=text/html:May the fourth be with you to win meat\, drink chips\, t-shirts\, and other prizes!&nbsp\;&nbsp\;
LOCATION:Village Pub - 101 Jackson Street\, Sauk City
UID:e.1184.22237
SEQUENCE:3
DTSTAMP:20260423T171435Z
URL:http://members.saukprairie.com/events/details/meat-raffle-05-04-2019-22237
END:VEVENT

END:VCALENDAR
